BEGIN:VCALENDAR
VERSION:2.0
PRODID:-//Al Baraka Hilfsverein e.V. - ECPv6.9.0//NONSGML v1.0//EN
CALSCALE:GREGORIAN
METHOD:PUBLISH
X-WR-CALNAME:Al Baraka Hilfsverein e.V.
X-ORIGINAL-URL:https://albaraka-verein.de
X-WR-CALDESC:Veranstaltungen für Al Baraka Hilfsverein e.V.
REFRESH-INTERVAL;VALUE=DURATION:PT1H
X-Robots-Tag:noindex
X-PUBLISHED-TTL:PT1H
BEGIN:VTIMEZONE
TZID:UTC
BEGIN:STANDARD
TZOFFSETFROM:+0000
TZOFFSETTO:+0000
TZNAME:UTC
DTSTART:20250101T000000
END:STANDARD
END:VTIMEZONE
BEGIN:VEVENT
DTSTART;TZID=UTC:20250118T170000
DTEND;TZID=UTC:20250118T200000
DTSTAMP:20260421T182920
CREATED:20241217T142002Z
LAST-MODIFIED:20241217T142118Z
UID:274-1737219600-1737230400@albaraka-verein.de
SUMMARY:Computer-Kurs
DESCRIPTION:Computerkurs (Ehrenamtlich) \nFür Migranten mit wenig Vorkenntnissen die Ihre Computer Kenntnisse verbessern wollen. \nUnsere Kurs Themen: PC-Grundlagen\, Windows für Einsteiger\, Excel für Einsteiger\, Word Grundkurs (Bewerbung und schriftliche Kommunikation mit Behörden richtig schreiben) \nAb dem 18.Januar 2024 \n3 UE je Termin \nAl Baraka Hilfsverein e.V. \nFriedrichsplatz 6\, 47798 Krefeld
URL:https://albaraka-verein.de/event/computer-kurs
LOCATION:Al Baraka Hilfsverein e.V.\, Friedrichsplatz 6\, Krefeld\, NRW\, 47798\, Germany
END:VEVENT
END:VCALENDAR